BEGIN:VCALENDAR
VERSION:2.0
PRODID:-//Race Time - ECPv6.15.13//NONSGML v1.0//EN
CALSCALE:GREGORIAN
METHOD:PUBLISH
X-ORIGINAL-URL:https://www.racetime.info
X-WR-CALDESC:Events for Race Time
REFRESH-INTERVAL;VALUE=DURATION:PT1H
X-Robots-Tag:noindex
X-PUBLISHED-TTL:PT1H
BEGIN:VTIMEZONE
TZID:America/Chicago
BEGIN:DAYLIGHT
TZOFFSETFROM:-0600
TZOFFSETTO:-0500
TZNAME:CDT
DTSTART:20140309T080000
END:DAYLIGHT
BEGIN:STANDARD
TZOFFSETFROM:-0500
TZOFFSETTO:-0600
TZNAME:CST
DTSTART:20141102T070000
END:STANDARD
BEGIN:DAYLIGHT
TZOFFSETFROM:-0600
TZOFFSETTO:-0500
TZNAME:CDT
DTSTART:20150308T080000
END:DAYLIGHT
BEGIN:STANDARD
TZOFFSETFROM:-0500
TZOFFSETTO:-0600
TZNAME:CST
DTSTART:20151101T070000
END:STANDARD
BEGIN:DAYLIGHT
TZOFFSETFROM:-0600
TZOFFSETTO:-0500
TZNAME:CDT
DTSTART:20160313T080000
END:DAYLIGHT
BEGIN:STANDARD
TZOFFSETFROM:-0500
TZOFFSETTO:-0600
TZNAME:CST
DTSTART:20161106T070000
END:STANDARD
BEGIN:DAYLIGHT
TZOFFSETFROM:-0600
TZOFFSETTO:-0500
TZNAME:CDT
DTSTART:20170312T080000
END:DAYLIGHT
BEGIN:STANDARD
TZOFFSETFROM:-0500
TZOFFSETTO:-0600
TZNAME:CST
DTSTART:20171105T070000
END:STANDARD
BEGIN:DAYLIGHT
TZOFFSETFROM:-0600
TZOFFSETTO:-0500
TZNAME:CDT
DTSTART:20180311T080000
END:DAYLIGHT
BEGIN:STANDARD
TZOFFSETFROM:-0500
TZOFFSETTO:-0600
TZNAME:CST
DTSTART:20181104T070000
END:STANDARD
END:VTIMEZONE
BEGIN:VEVENT
DTSTART;TZID=America/Chicago:20171015T090000
DTEND;TZID=America/Chicago:20171015T110000
DTSTAMP:20260424T023959
CREATED:20170330T210536Z
LAST-MODIFIED:20171015T193406Z
UID:10000522-1508058000-1508065200@www.racetime.info
SUMMARY:Hairy Buzz 10K Run
DESCRIPTION:Hairy Buzz 10K Age Group Results\n\nHairy Buzz 10K Overall Results
URL:https://www.racetime.info/event/hairy-buzz-10k-run-3/
LOCATION:Studio 404 Salon\, 112 E. Fellows\, Dixon\, IL\, 61021\, United States
CATEGORIES:2017-10 Results (October)
ORGANIZER;CN="Stacia Staples":MAILTO:stylist404@hotmail.com
GEO:41.8493243;-89.4845399
X-APPLE-STRUCTURED-LOCATION;VALUE=URI;X-ADDRESS=Studio 404 Salon 112 E. Fellows Dixon IL 61021 United States;X-APPLE-RADIUS=500;X-TITLE=112 E. Fellows:geo:-89.4845399,41.8493243
END:VEVENT
BEGIN:VEVENT
DTSTART;TZID=America/Chicago:20161016T100000
DTEND;TZID=America/Chicago:20161016T120000
DTSTAMP:20260424T023959
CREATED:20160809T115837Z
LAST-MODIFIED:20161016T165717Z
UID:10000294-1476612000-1476619200@www.racetime.info
SUMMARY:Hairy Buzz 10K Run
DESCRIPTION:Hairy Buzz 10K Age Group Results\n\nHairy Buzz 10K Overall Results\n\nHairy Buzz 10K Relay Results
URL:https://www.racetime.info/event/hairy-buzz-10k-run-2/
LOCATION:Studio 404 Salon\, 112 E. Fellows\, Dixon\, IL\, 61021\, United States
CATEGORIES:2016-10 Results (October)
ORGANIZER;CN="Stacia Staples":MAILTO:stylist404@hotmail.com
GEO:41.8493243;-89.4845399
X-APPLE-STRUCTURED-LOCATION;VALUE=URI;X-ADDRESS=Studio 404 Salon 112 E. Fellows Dixon IL 61021 United States;X-APPLE-RADIUS=500;X-TITLE=112 E. Fellows:geo:-89.4845399,41.8493243
END:VEVENT
BEGIN:VEVENT
DTSTART;TZID=America/Chicago:20151018T100000
DTEND;TZID=America/Chicago:20151018T120000
DTSTAMP:20260424T023959
CREATED:20150926T115326Z
LAST-MODIFIED:20151018T193233Z
UID:10000444-1445162400-1445169600@www.racetime.info
SUMMARY:Hairy Buzz 10K Run
DESCRIPTION:Hairy Buzz 10K Age Group Results\n\nHairy Buzz 10K Overall Results
URL:https://www.racetime.info/event/hairy-buzz-10k-run/
LOCATION:Studio 404 Salon\, 112 E. Fellows\, Dixon\, IL\, 61021\, United States
CATEGORIES:2015-10 Results (October)
ORGANIZER;CN="Stacia Staples":MAILTO:stylist404@hotmail.com
GEO:41.8493243;-89.4845399
X-APPLE-STRUCTURED-LOCATION;VALUE=URI;X-ADDRESS=Studio 404 Salon 112 E. Fellows Dixon IL 61021 United States;X-APPLE-RADIUS=500;X-TITLE=112 E. Fellows:geo:-89.4845399,41.8493243
END:VEVENT
END:VCALENDAR