BEGIN:VCALENDAR
VERSION:2.0
PRODID:-//Race Time - ECPv6.15.13//NONSGML v1.0//EN
CALSCALE:GREGORIAN
METHOD:PUBLISH
X-ORIGINAL-URL:https://www.racetime.info
X-WR-CALDESC:Events for Race Time
REFRESH-INTERVAL;VALUE=DURATION:PT1H
X-Robots-Tag:noindex
X-PUBLISHED-TTL:PT1H
BEGIN:VTIMEZONE
TZID:America/Chicago
BEGIN:DAYLIGHT
TZOFFSETFROM:-0600
TZOFFSETTO:-0500
TZNAME:CDT
DTSTART:20180311T080000
END:DAYLIGHT
BEGIN:STANDARD
TZOFFSETFROM:-0500
TZOFFSETTO:-0600
TZNAME:CST
DTSTART:20181104T070000
END:STANDARD
BEGIN:DAYLIGHT
TZOFFSETFROM:-0600
TZOFFSETTO:-0500
TZNAME:CDT
DTSTART:20190310T080000
END:DAYLIGHT
BEGIN:STANDARD
TZOFFSETFROM:-0500
TZOFFSETTO:-0600
TZNAME:CST
DTSTART:20191103T070000
END:STANDARD
BEGIN:DAYLIGHT
TZOFFSETFROM:-0600
TZOFFSETTO:-0500
TZNAME:CDT
DTSTART:20200308T080000
END:DAYLIGHT
BEGIN:STANDARD
TZOFFSETFROM:-0500
TZOFFSETTO:-0600
TZNAME:CST
DTSTART:20201101T070000
END:STANDARD
BEGIN:DAYLIGHT
TZOFFSETFROM:-0600
TZOFFSETTO:-0500
TZNAME:CDT
DTSTART:20210314T080000
END:DAYLIGHT
BEGIN:STANDARD
TZOFFSETFROM:-0500
TZOFFSETTO:-0600
TZNAME:CST
DTSTART:20211107T070000
END:STANDARD
BEGIN:DAYLIGHT
TZOFFSETFROM:-0600
TZOFFSETTO:-0500
TZNAME:CDT
DTSTART:20220313T080000
END:DAYLIGHT
BEGIN:STANDARD
TZOFFSETFROM:-0500
TZOFFSETTO:-0600
TZNAME:CST
DTSTART:20221106T070000
END:STANDARD
BEGIN:DAYLIGHT
TZOFFSETFROM:-0600
TZOFFSETTO:-0500
TZNAME:CDT
DTSTART:20230312T080000
END:DAYLIGHT
BEGIN:STANDARD
TZOFFSETFROM:-0500
TZOFFSETTO:-0600
TZNAME:CST
DTSTART:20231105T070000
END:STANDARD
END:VTIMEZONE
BEGIN:VEVENT
DTSTART;TZID=America/Chicago:20220904T183000
DTEND;TZID=America/Chicago:20220904T200000
DTSTAMP:20260423T235340
CREATED:20210901T235958Z
LAST-MODIFIED:20220905T025334Z
UID:10002017-1662316200-1662321600@www.racetime.info
SUMMARY:Fireworks 5K Run/Walk
DESCRIPTION:Fireworks 5K Age Group Results\n\nFireworks 5K Overall Results
URL:https://www.racetime.info/event/copy-of-fireworks-5k-run-walk/
LOCATION:Sunset Park\, 9200 Haligus Road\, Lake In The Hills\, IL\, 60156\, United States
CATEGORIES:2022-09 Results (September)
ORGANIZER;CN="Trudy Wakeman":MAILTO:trudywakeman@gmail.com
END:VEVENT
BEGIN:VEVENT
DTSTART;TZID=America/Chicago:20210905T183000
DTEND;TZID=America/Chicago:20210905T200000
DTSTAMP:20260423T235340
CREATED:20210901T235958Z
LAST-MODIFIED:20210906T015741Z
UID:10002016-1630866600-1630872000@www.racetime.info
SUMMARY:Fireworks 5K Run/Walk
DESCRIPTION:Fireworks 5K Age Group Results\n\nFireworks 5K Overall Results
URL:https://www.racetime.info/event/fireworks-5k-run-walk/
LOCATION:Sunset Park\, 9200 Haligus Road\, Lake In The Hills\, IL\, 60156\, United States
CATEGORIES:2021-09 Results (September)
ORGANIZER;CN="Trudy Wakeman":MAILTO:trudywakeman@gmail.com
END:VEVENT
BEGIN:VEVENT
DTSTART;TZID=America/Chicago:20190901T183000
DTEND;TZID=America/Chicago:20190901T200000
DTSTAMP:20260423T235340
CREATED:20190726T015907Z
LAST-MODIFIED:20190902T022317Z
UID:10001906-1567362600-1567368000@www.racetime.info
SUMMARY:Firework 5K Run/Walk
DESCRIPTION:Fireworks 5K Age Group Results\n\nFireworks 5K Overall Results
URL:https://www.racetime.info/event/firework-5k-run-walk/
LOCATION:Sunset Park\, 9200 Haligus Road\, Lake In The Hills\, IL\, 60156\, United States
CATEGORIES:2019-09 Results (September)
ORGANIZER;CN="Trudy Wakeman":MAILTO:trudywakeman@gmail.com
END:VEVENT
END:VCALENDAR