BEGIN:VCALENDAR
VERSION:2.0
PRODID:-//Race Time - ECPv6.15.13//NONSGML v1.0//EN
CALSCALE:GREGORIAN
METHOD:PUBLISH
X-ORIGINAL-URL:https://www.racetime.info
X-WR-CALDESC:Events for Race Time
REFRESH-INTERVAL;VALUE=DURATION:PT1H
X-Robots-Tag:noindex
X-PUBLISHED-TTL:PT1H
BEGIN:VTIMEZONE
TZID:America/Chicago
BEGIN:DAYLIGHT
TZOFFSETFROM:-0600
TZOFFSETTO:-0500
TZNAME:CDT
DTSTART:20220313T080000
END:DAYLIGHT
BEGIN:STANDARD
TZOFFSETFROM:-0500
TZOFFSETTO:-0600
TZNAME:CST
DTSTART:20221106T070000
END:STANDARD
BEGIN:DAYLIGHT
TZOFFSETFROM:-0600
TZOFFSETTO:-0500
TZNAME:CDT
DTSTART:20230312T080000
END:DAYLIGHT
BEGIN:STANDARD
TZOFFSETFROM:-0500
TZOFFSETTO:-0600
TZNAME:CST
DTSTART:20231105T070000
END:STANDARD
BEGIN:DAYLIGHT
TZOFFSETFROM:-0600
TZOFFSETTO:-0500
TZNAME:CDT
DTSTART:20240310T080000
END:DAYLIGHT
BEGIN:STANDARD
TZOFFSETFROM:-0500
TZOFFSETTO:-0600
TZNAME:CST
DTSTART:20241103T070000
END:STANDARD
BEGIN:DAYLIGHT
TZOFFSETFROM:-0600
TZOFFSETTO:-0500
TZNAME:CDT
DTSTART:20250309T080000
END:DAYLIGHT
BEGIN:STANDARD
TZOFFSETFROM:-0500
TZOFFSETTO:-0600
TZNAME:CST
DTSTART:20251102T070000
END:STANDARD
BEGIN:DAYLIGHT
TZOFFSETFROM:-0600
TZOFFSETTO:-0500
TZNAME:CDT
DTSTART:20260308T080000
END:DAYLIGHT
BEGIN:STANDARD
TZOFFSETFROM:-0500
TZOFFSETTO:-0600
TZNAME:CST
DTSTART:20261101T070000
END:STANDARD
END:VTIMEZONE
BEGIN:VEVENT
DTSTART;TZID=America/Chicago:20251018T090000
DTEND;TZID=America/Chicago:20251018T103000
DTSTAMP:20260423T213027
CREATED:20250622T105204Z
LAST-MODIFIED:20251018T201729Z
UID:10002371-1760778000-1760783400@www.racetime.info
SUMMARY:Palos Park Spooky Shuffle 5K & 10K
DESCRIPTION:Palos Spooky Shuffle 5K Age Group Results\n\nPalos Spooky Shuffle 5K Overall Results\n\nPalos Spooky Shuffle 10K Age Group Results\n\nPalos Spooky Shuffle 10K Overall Results
URL:https://www.racetime.info/event/palos-park-spooky-shuffle-5k-10k-2/
LOCATION:Swallow Cliff South Forest Preserve\, 11918 South LaGrange Road\, Palos Park\, IL\, United States
CATEGORIES:2025-10 Results (October)
ORGANIZER;CN="Stephen DeFalco":MAILTO:recreation@palospark.org
END:VEVENT
BEGIN:VEVENT
DTSTART;TZID=America/Chicago:20241020T090000
DTEND;TZID=America/Chicago:20241020T103000
DTSTAMP:20260423T213027
CREATED:20230707T182313Z
LAST-MODIFIED:20241020T183754Z
UID:10002186-1729414800-1729420200@www.racetime.info
SUMMARY:Palos Park Spooky Shuffle 5K & 10K
DESCRIPTION:Palos Spooky Shuffle 5K Age Group Results\n\nPalos Spooky Shuffle 5K Overall Results\n\nPalos Spooky Shuffle 10K Age Group Results\n\nPalos Spooky Shuffle 10K Overall Results
URL:https://www.racetime.info/event/copy-of-palos-park-spooky-shuffle-5k-10k/
LOCATION:Swallow Cliff South Forest Preserve\, 11918 South LaGrange Road\, Palos Park\, IL\, United States
CATEGORIES:2024-10 Results (October)
ORGANIZER;CN="Stephen DeFalco":MAILTO:recreation@palospark.org
END:VEVENT
BEGIN:VEVENT
DTSTART;TZID=America/Chicago:20231022T090000
DTEND;TZID=America/Chicago:20231022T110000
DTSTAMP:20260423T213027
CREATED:20230707T182313Z
LAST-MODIFIED:20231022T181207Z
UID:10002185-1697965200-1697972400@www.racetime.info
SUMMARY:Palos Park Spooky Shuffle 5K & 10K
DESCRIPTION:Spooky Shuffle 5K Age Group Results\n\nSpooky Shuffle 5K Overall Results\n\nSpooky Shuffle 10K Age Group Results\n\nSpooky Shuffle 10K Overall Results
URL:https://www.racetime.info/event/palos-park-spooky-shuffle-5k-10k/
LOCATION:Swallow Cliff South Forest Preserve\, 11918 South LaGrange Road\, Palos Park\, IL\, United States
CATEGORIES:2023-10 Results (October)
ORGANIZER;CN="Stephen DeFalco":MAILTO:recreation@palospark.org
END:VEVENT
END:VCALENDAR