BEGIN:VCALENDAR
VERSION:2.0
PRODID:-//Race Time - ECPv6.15.13//NONSGML v1.0//EN
CALSCALE:GREGORIAN
METHOD:PUBLISH
X-ORIGINAL-URL:https://www.racetime.info
X-WR-CALDESC:Events for Race Time
REFRESH-INTERVAL;VALUE=DURATION:PT1H
X-Robots-Tag:noindex
X-PUBLISHED-TTL:PT1H
BEGIN:VTIMEZONE
TZID:America/Chicago
BEGIN:DAYLIGHT
TZOFFSETFROM:-0600
TZOFFSETTO:-0500
TZNAME:CDT
DTSTART:20230312T080000
END:DAYLIGHT
BEGIN:STANDARD
TZOFFSETFROM:-0500
TZOFFSETTO:-0600
TZNAME:CST
DTSTART:20231105T070000
END:STANDARD
BEGIN:DAYLIGHT
TZOFFSETFROM:-0600
TZOFFSETTO:-0500
TZNAME:CDT
DTSTART:20240310T080000
END:DAYLIGHT
BEGIN:STANDARD
TZOFFSETFROM:-0500
TZOFFSETTO:-0600
TZNAME:CST
DTSTART:20241103T070000
END:STANDARD
BEGIN:DAYLIGHT
TZOFFSETFROM:-0600
TZOFFSETTO:-0500
TZNAME:CDT
DTSTART:20250309T080000
END:DAYLIGHT
BEGIN:STANDARD
TZOFFSETFROM:-0500
TZOFFSETTO:-0600
TZNAME:CST
DTSTART:20251102T070000
END:STANDARD
BEGIN:DAYLIGHT
TZOFFSETFROM:-0600
TZOFFSETTO:-0500
TZNAME:CDT
DTSTART:20260308T080000
END:DAYLIGHT
BEGIN:STANDARD
TZOFFSETFROM:-0500
TZOFFSETTO:-0600
TZNAME:CST
DTSTART:20261101T070000
END:STANDARD
END:VTIMEZONE
BEGIN:VEVENT
DTSTART;TZID=America/Chicago:20250809T080000
DTEND;TZID=America/Chicago:20250809T100000
DTSTAMP:20260423T181641
CREATED:20250312T181323Z
LAST-MODIFIED:20250809T180312Z
UID:10002267-1754726400-1754733600@www.racetime.info
SUMMARY:Lincoln Douglas 5K Run/Walk & 1 Mile Fun Run
DESCRIPTION:Lincoln Douglas 5K Age Group Results\n\nLincoln Douglas 5K Overall Results
URL:https://www.racetime.info/event/lincoln-douglas-5k-run-walk-1-mile-fun-run-2/
LOCATION:Taylor Park\, 900 East Stephenson Street\, Freeport\, IL\, 61032\, United States
CATEGORIES:2025-08 Results (August)
ORGANIZER;CN="Connie Kraft":MAILTO:director@uwni.org
END:VEVENT
BEGIN:VEVENT
DTSTART;TZID=America/Chicago:20240810T080000
DTEND;TZID=America/Chicago:20240810T100000
DTSTAMP:20260423T181641
CREATED:20240624T201128Z
LAST-MODIFIED:20240810T174859Z
UID:10001394-1723276800-1723284000@www.racetime.info
SUMMARY:Lincoln Douglas 5K Run/Walk & 1 Mile Fun Run
DESCRIPTION:Lincoln Douglas 5K Age Group Results\n\nLincoln Douglas 5K Overall Results
URL:https://www.racetime.info/event/lincoln-douglas-5k-run-walk-1-mile-fun-run/
LOCATION:Taylor Park\, 900 East Stephenson Street\, Freeport\, IL\, 61032\, United States
CATEGORIES:2024-08 Results (August)
ORGANIZER;CN="Matt Dougherty":MAILTO:mdougherty@freeportymca.org
END:VEVENT
END:VCALENDAR