BEGIN:VCALENDAR
VERSION:2.0
PRODID:-//Race Time - ECPv6.15.13//NONSGML v1.0//EN
CALSCALE:GREGORIAN
METHOD:PUBLISH
X-WR-CALNAME:Race Time
X-ORIGINAL-URL:https://www.racetime.info
X-WR-CALDESC:Events for Race Time
REFRESH-INTERVAL;VALUE=DURATION:PT1H
X-Robots-Tag:noindex
X-PUBLISHED-TTL:PT1H
BEGIN:VTIMEZONE
TZID:America/Chicago
BEGIN:DAYLIGHT
TZOFFSETFROM:-0600
TZOFFSETTO:-0500
TZNAME:CDT
DTSTART:20170312T080000
END:DAYLIGHT
BEGIN:STANDARD
TZOFFSETFROM:-0500
TZOFFSETTO:-0600
TZNAME:CST
DTSTART:20171105T070000
END:STANDARD
BEGIN:DAYLIGHT
TZOFFSETFROM:-0600
TZOFFSETTO:-0500
TZNAME:CDT
DTSTART:20180311T080000
END:DAYLIGHT
BEGIN:STANDARD
TZOFFSETFROM:-0500
TZOFFSETTO:-0600
TZNAME:CST
DTSTART:20181104T070000
END:STANDARD
BEGIN:DAYLIGHT
TZOFFSETFROM:-0600
TZOFFSETTO:-0500
TZNAME:CDT
DTSTART:20190310T080000
END:DAYLIGHT
BEGIN:STANDARD
TZOFFSETFROM:-0500
TZOFFSETTO:-0600
TZNAME:CST
DTSTART:20191103T070000
END:STANDARD
BEGIN:DAYLIGHT
TZOFFSETFROM:-0600
TZOFFSETTO:-0500
TZNAME:CDT
DTSTART:20200308T080000
END:DAYLIGHT
BEGIN:STANDARD
TZOFFSETFROM:-0500
TZOFFSETTO:-0600
TZNAME:CST
DTSTART:20201101T070000
END:STANDARD
BEGIN:DAYLIGHT
TZOFFSETFROM:-0600
TZOFFSETTO:-0500
TZNAME:CDT
DTSTART:20210314T080000
END:DAYLIGHT
BEGIN:STANDARD
TZOFFSETFROM:-0500
TZOFFSETTO:-0600
TZNAME:CST
DTSTART:20211107T070000
END:STANDARD
BEGIN:DAYLIGHT
TZOFFSETFROM:-0600
TZOFFSETTO:-0500
TZNAME:CDT
DTSTART:20220313T080000
END:DAYLIGHT
BEGIN:STANDARD
TZOFFSETFROM:-0500
TZOFFSETTO:-0600
TZNAME:CST
DTSTART:20221106T070000
END:STANDARD
BEGIN:DAYLIGHT
TZOFFSETFROM:-0600
TZOFFSETTO:-0500
TZNAME:CDT
DTSTART:20230312T080000
END:DAYLIGHT
BEGIN:STANDARD
TZOFFSETFROM:-0500
TZOFFSETTO:-0600
TZNAME:CST
DTSTART:20231105T070000
END:STANDARD
BEGIN:DAYLIGHT
TZOFFSETFROM:-0600
TZOFFSETTO:-0500
TZNAME:CDT
DTSTART:20240310T080000
END:DAYLIGHT
BEGIN:STANDARD
TZOFFSETFROM:-0500
TZOFFSETTO:-0600
TZNAME:CST
DTSTART:20241103T070000
END:STANDARD
BEGIN:DAYLIGHT
TZOFFSETFROM:-0600
TZOFFSETTO:-0500
TZNAME:CDT
DTSTART:20250309T080000
END:DAYLIGHT
BEGIN:STANDARD
TZOFFSETFROM:-0500
TZOFFSETTO:-0600
TZNAME:CST
DTSTART:20251102T070000
END:STANDARD
BEGIN:DAYLIGHT
TZOFFSETFROM:-0600
TZOFFSETTO:-0500
TZNAME:CDT
DTSTART:20260308T080000
END:DAYLIGHT
BEGIN:STANDARD
TZOFFSETFROM:-0500
TZOFFSETTO:-0600
TZNAME:CST
DTSTART:20261101T070000
END:STANDARD
END:VTIMEZONE
BEGIN:VEVENT
DTSTART;TZID=America/Chicago:20250427T080000
DTEND;TZID=America/Chicago:20250427T100000
DTSTAMP:20260423T202205
CREATED:20250322T115548Z
LAST-MODIFIED:20250427T212600Z
UID:10002292-1745740800-1745748000@www.racetime.info
SUMMARY:Chicago Federation of Labor May Day 5K Run/Walk
DESCRIPTION:May Day 5K Age Group Results\n\nMay Day 5K Overall Results
URL:https://www.racetime.info/event/chicago-federation-of-labor-may-day-5k-run-walk-2/
LOCATION:The Lakeside Center at McCormick Place\, 2300 S. Fort Dearborn\, Chicago\, IL\, 60601\, United States
CATEGORIES:2025-04 Results (April)
ORGANIZER;CN="Andrea Chaudron":MAILTO:achaudron@chicagolabor.org
GEO:41.8461749;-87.6108272
X-APPLE-STRUCTURED-LOCATION;VALUE=URI;X-ADDRESS=The Lakeside Center at McCormick Place 2300 S. Fort Dearborn Chicago IL 60601 United States;X-APPLE-RADIUS=500;X-TITLE=2300 S. Fort Dearborn:geo:-87.6108272,41.8461749
END:VEVENT
BEGIN:VEVENT
DTSTART;TZID=America/Chicago:20250426T073000
DTEND;TZID=America/Chicago:20250426T093000
DTSTAMP:20260423T202205
CREATED:20250214T140752Z
LAST-MODIFIED:20250427T005000Z
UID:10002247-1745652600-1745659800@www.racetime.info
SUMMARY:AACR Runners for Research 5k Run/Walk
DESCRIPTION:Runners for Research 5K Age Group Results\n\nRunners for Research 5K Overall Results
URL:https://www.racetime.info/event/aacr-runners-for-research-5k-run-walk-2/
LOCATION:The Lakeside Center at McCormick Place\, 2300 S. Fort Dearborn\, Chicago\, IL\, 60601\, United States
CATEGORIES:2025-04 Results (April)
ORGANIZER;CN="Julie Pearson":MAILTO:racetime21@hotmail.com
GEO:41.8461749;-87.6108272
X-APPLE-STRUCTURED-LOCATION;VALUE=URI;X-ADDRESS=The Lakeside Center at McCormick Place 2300 S. Fort Dearborn Chicago IL 60601 United States;X-APPLE-RADIUS=500;X-TITLE=2300 S. Fort Dearborn:geo:-87.6108272,41.8461749
END:VEVENT
BEGIN:VEVENT
DTSTART;TZID=America/Chicago:20240928T083000
DTEND;TZID=America/Chicago:20240928T103000
DTSTAMP:20260423T202205
CREATED:20220409T140512Z
LAST-MODIFIED:20240928T180306Z
UID:10002111-1727512200-1727519400@www.racetime.info
SUMMARY:Race to Cure Sarcoma Chicago 5K Run/Walk
DESCRIPTION:Race to Cure Sarcoma 5K Overall Results
URL:https://www.racetime.info/event/copy-of-race-to-cure-sarcoma-chicago-5k-run-walk/
LOCATION:The Lakeside Center at McCormick Place\, 2300 S. Fort Dearborn\, Chicago\, IL\, 60601\, United States
CATEGORIES:2024-09 Results (September)
ORGANIZER;CN="Shelby Ostrander":MAILTO:sostrander@curesarcoma.org
GEO:41.8461749;-87.6108272
X-APPLE-STRUCTURED-LOCATION;VALUE=URI;X-ADDRESS=The Lakeside Center at McCormick Place 2300 S. Fort Dearborn Chicago IL 60601 United States;X-APPLE-RADIUS=500;X-TITLE=2300 S. Fort Dearborn:geo:-87.6108272,41.8461749
END:VEVENT
BEGIN:VEVENT
DTSTART;TZID=America/Chicago:20240428T080000
DTEND;TZID=America/Chicago:20240428T100000
DTSTAMP:20260423T202205
CREATED:20230223T125509Z
LAST-MODIFIED:20240503T094825Z
UID:10002150-1714291200-1714298400@www.racetime.info
SUMMARY:Chicago Federation of Labor May Day 5K Run/Walk
DESCRIPTION:May Day 5K Age Group Results\n\nMay Day 5K Overall Results
URL:https://www.racetime.info/event/copy-of-chicago-federation-of-labor-may-day-5k-run-walk/
LOCATION:The Lakeside Center at McCormick Place\, 2300 S. Fort Dearborn\, Chicago\, IL\, 60601\, United States
CATEGORIES:2024-04 Results (April)
ORGANIZER;CN="Andrea Chaudron":MAILTO:achaudron@chicagolabor.org
GEO:41.8461749;-87.6108272
X-APPLE-STRUCTURED-LOCATION;VALUE=URI;X-ADDRESS=The Lakeside Center at McCormick Place 2300 S. Fort Dearborn Chicago IL 60601 United States;X-APPLE-RADIUS=500;X-TITLE=2300 S. Fort Dearborn:geo:-87.6108272,41.8461749
END:VEVENT
BEGIN:VEVENT
DTSTART;TZID=America/Chicago:20230430T080000
DTEND;TZID=America/Chicago:20230430T100000
DTSTAMP:20260423T202205
CREATED:20230223T125509Z
LAST-MODIFIED:20230430T204855Z
UID:10002149-1682841600-1682848800@www.racetime.info
SUMMARY:Chicago Federation of Labor May Day 5K Run/Walk
DESCRIPTION:May Day 5K Age Group Results\n\nMay Day 5K Overall Results
URL:https://www.racetime.info/event/chicago-federation-of-labor-may-day-5k-run-walk/
LOCATION:The Lakeside Center at McCormick Place\, 2300 S. Fort Dearborn\, Chicago\, IL\, 60601\, United States
CATEGORIES:2023-04 Results (April)
ORGANIZER;CN="Andrea Chaudron":MAILTO:achaudron@chicagolabor.org
GEO:41.8461749;-87.6108272
X-APPLE-STRUCTURED-LOCATION;VALUE=URI;X-ADDRESS=The Lakeside Center at McCormick Place 2300 S. Fort Dearborn Chicago IL 60601 United States;X-APPLE-RADIUS=500;X-TITLE=2300 S. Fort Dearborn:geo:-87.6108272,41.8461749
END:VEVENT
BEGIN:VEVENT
DTSTART;TZID=America/Chicago:20200627T070000
DTEND;TZID=America/Chicago:20200627T090000
DTSTAMP:20260423T202205
CREATED:20200301T140213Z
LAST-MODIFIED:20200625T123112Z
UID:10001947-1593241200-1593248400@www.racetime.info
SUMMARY:Train With The Pros 5K Run/Walk: CANCELLED
DESCRIPTION:
URL:https://www.racetime.info/event/train-with-the-pros-5k-run-walk/
LOCATION:The Lakeside Center at McCormick Place\, 2300 S. Fort Dearborn\, Chicago\, IL\, 60601\, United States
ORGANIZER;CN="ChaVohn Nakia":MAILTO:chavohn@aikanfoundation.org
GEO:41.8461749;-87.6108272
X-APPLE-STRUCTURED-LOCATION;VALUE=URI;X-ADDRESS=The Lakeside Center at McCormick Place 2300 S. Fort Dearborn Chicago IL 60601 United States;X-APPLE-RADIUS=500;X-TITLE=2300 S. Fort Dearborn:geo:-87.6108272,41.8461749
END:VEVENT
BEGIN:VEVENT
DTSTART;TZID=America/Chicago:20190810T070000
DTEND;TZID=America/Chicago:20190810T083000
DTSTAMP:20260423T202205
CREATED:20190810T205110Z
LAST-MODIFIED:20190810T205110Z
UID:10001095-1565420400-1565425800@www.racetime.info
SUMMARY:Running Psychologists' Ray's 5K Run/Walk
DESCRIPTION:Running Psychologists 5K Run & Walk Age Group Results\n\nRunning Psychologists 5K Run & Walk Overall Results\n\nRunning Psychologists Team Results
URL:https://www.racetime.info/event/running-psychologists-rays-5k-run-walk/
LOCATION:The Lakeside Center at McCormick Place\, 2300 S. Fort Dearborn\, Chicago\, IL\, 60601\, United States
CATEGORIES:2019-08 Results (August)
GEO:41.8461749;-87.6108272
X-APPLE-STRUCTURED-LOCATION;VALUE=URI;X-ADDRESS=The Lakeside Center at McCormick Place 2300 S. Fort Dearborn Chicago IL 60601 United States;X-APPLE-RADIUS=500;X-TITLE=2300 S. Fort Dearborn:geo:-87.6108272,41.8461749
END:VEVENT
BEGIN:VEVENT
DTSTART;TZID=America/Chicago:20180414T073000
DTEND;TZID=America/Chicago:20180414T083000
DTSTAMP:20260423T202205
CREATED:20180201T030027Z
LAST-MODIFIED:20180414T170334Z
UID:10001728-1523691000-1523694600@www.racetime.info
SUMMARY:AACR Runners for Research 5K Run/Walk
DESCRIPTION:AACR Runners For Research 5K Overall Results
URL:https://www.racetime.info/event/aacr-runners-for-research-5k-run-walk/
LOCATION:The Lakeside Center at McCormick Place\, 2300 S. Fort Dearborn\, Chicago\, IL\, 60601\, United States
CATEGORIES:2018-04 Results (April)
ORGANIZER;CN="Julie Pearson":MAILTO:racetime21@hotmail.com
GEO:41.8461749;-87.6108272
X-APPLE-STRUCTURED-LOCATION;VALUE=URI;X-ADDRESS=The Lakeside Center at McCormick Place 2300 S. Fort Dearborn Chicago IL 60601 United States;X-APPLE-RADIUS=500;X-TITLE=2300 S. Fort Dearborn:geo:-87.6108272,41.8461749
END:VEVENT
END:VCALENDAR