BEGIN:VCALENDAR
VERSION:2.0
PRODID:-//Race Time - ECPv6.15.13//NONSGML v1.0//EN
CALSCALE:GREGORIAN
METHOD:PUBLISH
X-ORIGINAL-URL:https://www.racetime.info
X-WR-CALDESC:Events for Race Time
REFRESH-INTERVAL;VALUE=DURATION:PT1H
X-Robots-Tag:noindex
X-PUBLISHED-TTL:PT1H
BEGIN:VTIMEZONE
TZID:America/Chicago
BEGIN:DAYLIGHT
TZOFFSETFROM:-0600
TZOFFSETTO:-0500
TZNAME:CDT
DTSTART:20180311T080000
END:DAYLIGHT
BEGIN:STANDARD
TZOFFSETFROM:-0500
TZOFFSETTO:-0600
TZNAME:CST
DTSTART:20181104T070000
END:STANDARD
BEGIN:DAYLIGHT
TZOFFSETFROM:-0600
TZOFFSETTO:-0500
TZNAME:CDT
DTSTART:20190310T080000
END:DAYLIGHT
BEGIN:STANDARD
TZOFFSETFROM:-0500
TZOFFSETTO:-0600
TZNAME:CST
DTSTART:20191103T070000
END:STANDARD
BEGIN:DAYLIGHT
TZOFFSETFROM:-0600
TZOFFSETTO:-0500
TZNAME:CDT
DTSTART:20200308T080000
END:DAYLIGHT
BEGIN:STANDARD
TZOFFSETFROM:-0500
TZOFFSETTO:-0600
TZNAME:CST
DTSTART:20201101T070000
END:STANDARD
END:VTIMEZONE
BEGIN:VEVENT
DTSTART;TZID=America/Chicago:20191026T090000
DTEND;TZID=America/Chicago:20191026T120000
DTSTAMP:20260424T041616
CREATED:20170901T115840Z
LAST-MODIFIED:20191026T184434Z
UID:10001645-1572080400-1572091200@www.racetime.info
SUMMARY:Andrew's Regional Cross Country Meet
DESCRIPTION:Andrew IHSA Regional Girls Overall Results\n\nAndrew IHSA Regional Girls Team Results\n\nAndrew IHSA Regional Girls Qualifying Results\n\nAndrew IHSA Regional Boys Overall Results\n\nAndrew IHSA Regional Boys Team Results\n\nAndrew IHSA Regional Boys Qualifying Results
URL:https://www.racetime.info/event/andrews-regional-cross-country-meet/
LOCATION:Tinley Park Park District\, 8125 W. 171st Street\, Tinley Park\, IL\, 60447\, United States
CATEGORIES:2019 Cross Country Results
ORGANIZER;CN="Kevin McKeown":MAILTO:kmckeown@d230.org
END:VEVENT
BEGIN:VEVENT
DTSTART;TZID=America/Chicago:20191003T160000
DTEND;TZID=America/Chicago:20191003T180000
DTSTAMP:20260424T041616
CREATED:20170803T114316Z
LAST-MODIFIED:20191004T010713Z
UID:10001571-1570118400-1570125600@www.racetime.info
SUMMARY:Joe Mortimer Frosh-Soph Cross Country Meet
DESCRIPTION:Joe Mortimer Freshman Boys Overall Results\n\nJoe Mortimer Freshmen Boys Team Results\n\nJoe Mortimer Sophomore Boys Overall Results\n\nJoe Mortimer Sophomore Boys Team Results
URL:https://www.racetime.info/event/joe-motimer-frosh-soph-cross-country-meet-2/
LOCATION:Tinley Park Park District\, 8125 W. 171st Street\, Tinley Park\, IL\, 60447\, United States
CATEGORIES:2019 Cross Country Results
ORGANIZER;CN="Kevin McKeown":MAILTO:kmckeown@d230.org
END:VEVENT
END:VCALENDAR