BEGIN:VCALENDAR
VERSION:2.0
PRODID:-//Race Time - ECPv6.15.13//NONSGML v1.0//EN
CALSCALE:GREGORIAN
METHOD:PUBLISH
X-WR-CALNAME:Race Time
X-ORIGINAL-URL:https://www.racetime.info
X-WR-CALDESC:Events for Race Time
REFRESH-INTERVAL;VALUE=DURATION:PT1H
X-Robots-Tag:noindex
X-PUBLISHED-TTL:PT1H
BEGIN:VTIMEZONE
TZID:America/Chicago
BEGIN:DAYLIGHT
TZOFFSETFROM:-0600
TZOFFSETTO:-0500
TZNAME:CDT
DTSTART:20210314T080000
END:DAYLIGHT
BEGIN:STANDARD
TZOFFSETFROM:-0500
TZOFFSETTO:-0600
TZNAME:CST
DTSTART:20211107T070000
END:STANDARD
BEGIN:DAYLIGHT
TZOFFSETFROM:-0600
TZOFFSETTO:-0500
TZNAME:CDT
DTSTART:20220313T080000
END:DAYLIGHT
BEGIN:STANDARD
TZOFFSETFROM:-0500
TZOFFSETTO:-0600
TZNAME:CST
DTSTART:20221106T070000
END:STANDARD
BEGIN:DAYLIGHT
TZOFFSETFROM:-0600
TZOFFSETTO:-0500
TZNAME:CDT
DTSTART:20230312T080000
END:DAYLIGHT
BEGIN:STANDARD
TZOFFSETFROM:-0500
TZOFFSETTO:-0600
TZNAME:CST
DTSTART:20231105T070000
END:STANDARD
BEGIN:DAYLIGHT
TZOFFSETFROM:-0600
TZOFFSETTO:-0500
TZNAME:CDT
DTSTART:20240310T080000
END:DAYLIGHT
BEGIN:STANDARD
TZOFFSETFROM:-0500
TZOFFSETTO:-0600
TZNAME:CST
DTSTART:20241103T070000
END:STANDARD
BEGIN:DAYLIGHT
TZOFFSETFROM:-0600
TZOFFSETTO:-0500
TZNAME:CDT
DTSTART:20250309T080000
END:DAYLIGHT
BEGIN:STANDARD
TZOFFSETFROM:-0500
TZOFFSETTO:-0600
TZNAME:CST
DTSTART:20251102T070000
END:STANDARD
BEGIN:DAYLIGHT
TZOFFSETFROM:-0600
TZOFFSETTO:-0500
TZNAME:CDT
DTSTART:20260308T080000
END:DAYLIGHT
BEGIN:STANDARD
TZOFFSETFROM:-0500
TZOFFSETTO:-0600
TZNAME:CST
DTSTART:20261101T070000
END:STANDARD
END:VTIMEZONE
BEGIN:VEVENT
DTSTART;TZID=America/Chicago:20251004T080000
DTEND;TZID=America/Chicago:20251004T093000
DTSTAMP:20260423T194401
CREATED:20250519T101244Z
LAST-MODIFIED:20251004T191628Z
UID:10002361-1759564800-1759570200@www.racetime.info
SUMMARY:#LetHerLive DV 5K Walk/Run
DESCRIPTION:#LetThemLive 5K Overall Results
URL:https://www.racetime.info/event/letherlive-dv-5k-walk-run-2/
LOCATION:Veterans Park Pavilion\, 1010 N. Lincoln Memorial Drive\, Milwaukee\, WI\, 53219\, United States
CATEGORIES:2025-10 Results (October)
ORGANIZER;CN="Natalie Hayden":MAILTO:exposeddva@gmail.com
END:VEVENT
BEGIN:VEVENT
DTSTART;TZID=America/Chicago:20250612T070000
DTEND;TZID=America/Chicago:20250612T080000
DTSTAMP:20260423T194401
CREATED:20250612T155043Z
LAST-MODIFIED:20250612T155043Z
UID:10002369-1749711600-1749715200@www.racetime.info
SUMMARY:BAIRD'S GIB Re-Union Run
DESCRIPTION:Bairds GIB Re Union Run
URL:https://www.racetime.info/event/bairds-gib-re-union-run/
LOCATION:Veterans Park Pavilion\, 1010 N. Lincoln Memorial Drive\, Milwaukee\, WI\, 53219\, United States
CATEGORIES:2025-06 Results (June)
ORGANIZER;CN="Mary Agnes Zellmer":MAILTO:maz@chicagoracemanagement.com
END:VEVENT
BEGIN:VEVENT
DTSTART;TZID=America/Chicago:20241012T080000
DTEND;TZID=America/Chicago:20241012T093000
DTSTAMP:20260423T194401
CREATED:20220620T202730Z
LAST-MODIFIED:20241012T171538Z
UID:10002121-1728720000-1728725400@www.racetime.info
SUMMARY:#LetThemLive Domestic Violence 5K Walk/Run
DESCRIPTION:#LETTHEMLIVE 5K Overall Results
URL:https://www.racetime.info/event/copy-of-letherlive-dv-5k-walk-run-2/
LOCATION:Veterans Park Pavilion\, 1010 N. Lincoln Memorial Drive\, Milwaukee\, WI\, 53219\, United States
CATEGORIES:2024-10 Results (October)
ORGANIZER;CN="Natalie Hayden":MAILTO:exposeddva@gmail.com
END:VEVENT
BEGIN:VEVENT
DTSTART;TZID=America/Chicago:20231007T080000
DTEND;TZID=America/Chicago:20231007T093000
DTSTAMP:20260423T194401
CREATED:20220620T202730Z
LAST-MODIFIED:20231007T202753Z
UID:10002120-1696665600-1696671000@www.racetime.info
SUMMARY:#LetHerLive DV 5K Walk/Run
DESCRIPTION:#Let Her Live 5K Overall Results
URL:https://www.racetime.info/event/copy-of-letherlive-dv-5k-walk-run/
LOCATION:Veterans Park Pavilion\, 1010 N. Lincoln Memorial Drive\, Milwaukee\, WI\, 53219\, United States
CATEGORIES:2023-10 Results (October)
ORGANIZER;CN="Natalie Hayden":MAILTO:exposeddva@gmail.com
END:VEVENT
BEGIN:VEVENT
DTSTART;TZID=America/Chicago:20221008T080000
DTEND;TZID=America/Chicago:20221008T103000
DTSTAMP:20260423T194401
CREATED:20220620T202730Z
LAST-MODIFIED:20221008T194141Z
UID:10002119-1665216000-1665225000@www.racetime.info
SUMMARY:#LetHerLive DV 5K Walk/Run
DESCRIPTION:Exposed Let Her Live 5K Overall Results
URL:https://www.racetime.info/event/letherlive-dv-5k-walk-run/
LOCATION:Veterans Park Pavilion\, 1010 N. Lincoln Memorial Drive\, Milwaukee\, WI\, 53219\, United States
CATEGORIES:2022-10 Results (October)
ORGANIZER;CN="Natalie Hayden":MAILTO:exposeddva@gmail.com
END:VEVENT
END:VCALENDAR