BEGIN:VCALENDAR
VERSION:2.0
PRODID:-//Race Time - ECPv6.15.13//NONSGML v1.0//EN
CALSCALE:GREGORIAN
METHOD:PUBLISH
X-WR-CALNAME:Race Time
X-ORIGINAL-URL:https://www.racetime.info
X-WR-CALDESC:Events for Race Time
REFRESH-INTERVAL;VALUE=DURATION:PT1H
X-Robots-Tag:noindex
X-PUBLISHED-TTL:PT1H
BEGIN:VTIMEZONE
TZID:America/Chicago
BEGIN:DAYLIGHT
TZOFFSETFROM:-0600
TZOFFSETTO:-0500
TZNAME:CDT
DTSTART:20140309T080000
END:DAYLIGHT
BEGIN:STANDARD
TZOFFSETFROM:-0500
TZOFFSETTO:-0600
TZNAME:CST
DTSTART:20141102T070000
END:STANDARD
BEGIN:DAYLIGHT
TZOFFSETFROM:-0600
TZOFFSETTO:-0500
TZNAME:CDT
DTSTART:20150308T080000
END:DAYLIGHT
BEGIN:STANDARD
TZOFFSETFROM:-0500
TZOFFSETTO:-0600
TZNAME:CST
DTSTART:20151101T070000
END:STANDARD
BEGIN:DAYLIGHT
TZOFFSETFROM:-0600
TZOFFSETTO:-0500
TZNAME:CDT
DTSTART:20160313T080000
END:DAYLIGHT
BEGIN:STANDARD
TZOFFSETFROM:-0500
TZOFFSETTO:-0600
TZNAME:CST
DTSTART:20161106T070000
END:STANDARD
BEGIN:DAYLIGHT
TZOFFSETFROM:-0600
TZOFFSETTO:-0500
TZNAME:CDT
DTSTART:20170312T080000
END:DAYLIGHT
BEGIN:STANDARD
TZOFFSETFROM:-0500
TZOFFSETTO:-0600
TZNAME:CST
DTSTART:20171105T070000
END:STANDARD
BEGIN:DAYLIGHT
TZOFFSETFROM:-0600
TZOFFSETTO:-0500
TZNAME:CDT
DTSTART:20180311T080000
END:DAYLIGHT
BEGIN:STANDARD
TZOFFSETFROM:-0500
TZOFFSETTO:-0600
TZNAME:CST
DTSTART:20181104T070000
END:STANDARD
BEGIN:DAYLIGHT
TZOFFSETFROM:-0600
TZOFFSETTO:-0500
TZNAME:CDT
DTSTART:20190310T080000
END:DAYLIGHT
BEGIN:STANDARD
TZOFFSETFROM:-0500
TZOFFSETTO:-0600
TZNAME:CST
DTSTART:20191103T070000
END:STANDARD
BEGIN:DAYLIGHT
TZOFFSETFROM:-0600
TZOFFSETTO:-0500
TZNAME:CDT
DTSTART:20200308T080000
END:DAYLIGHT
BEGIN:STANDARD
TZOFFSETFROM:-0500
TZOFFSETTO:-0600
TZNAME:CST
DTSTART:20201101T070000
END:STANDARD
BEGIN:DAYLIGHT
TZOFFSETFROM:-0600
TZOFFSETTO:-0500
TZNAME:CDT
DTSTART:20210314T080000
END:DAYLIGHT
BEGIN:STANDARD
TZOFFSETFROM:-0500
TZOFFSETTO:-0600
TZNAME:CST
DTSTART:20211107T070000
END:STANDARD
BEGIN:DAYLIGHT
TZOFFSETFROM:-0600
TZOFFSETTO:-0500
TZNAME:CDT
DTSTART:20220313T080000
END:DAYLIGHT
BEGIN:STANDARD
TZOFFSETFROM:-0500
TZOFFSETTO:-0600
TZNAME:CST
DTSTART:20221106T070000
END:STANDARD
BEGIN:DAYLIGHT
TZOFFSETFROM:-0600
TZOFFSETTO:-0500
TZNAME:CDT
DTSTART:20230312T080000
END:DAYLIGHT
BEGIN:STANDARD
TZOFFSETFROM:-0500
TZOFFSETTO:-0600
TZNAME:CST
DTSTART:20231105T070000
END:STANDARD
BEGIN:DAYLIGHT
TZOFFSETFROM:-0600
TZOFFSETTO:-0500
TZNAME:CDT
DTSTART:20240310T080000
END:DAYLIGHT
BEGIN:STANDARD
TZOFFSETFROM:-0500
TZOFFSETTO:-0600
TZNAME:CST
DTSTART:20241103T070000
END:STANDARD
BEGIN:DAYLIGHT
TZOFFSETFROM:-0600
TZOFFSETTO:-0500
TZNAME:CDT
DTSTART:20250309T080000
END:DAYLIGHT
BEGIN:STANDARD
TZOFFSETFROM:-0500
TZOFFSETTO:-0600
TZNAME:CST
DTSTART:20251102T070000
END:STANDARD
BEGIN:DAYLIGHT
TZOFFSETFROM:-0600
TZOFFSETTO:-0500
TZNAME:CDT
DTSTART:20260308T080000
END:DAYLIGHT
BEGIN:STANDARD
TZOFFSETFROM:-0500
TZOFFSETTO:-0600
TZNAME:CST
DTSTART:20261101T070000
END:STANDARD
END:VTIMEZONE
BEGIN:VEVENT
DTSTART;TZID=America/Chicago:20251004T090000
DTEND;TZID=America/Chicago:20251004T110000
DTSTAMP:20260423T224853
CREATED:20250828T144934Z
LAST-MODIFIED:20251004T192654Z
UID:10002429-1759568400-1759575600@www.racetime.info
SUMMARY:Montgomery River Run 5K & 10K
DESCRIPTION:Montgomery 5K Age Group Results\n\nMontgomery 5K Overall Results\n\nMontgomery 10K Age Group Results\n\nMontgomery 10K Overall Results
URL:https://www.racetime.info/event/montgomery-river-run-5k-10k-7/
LOCATION:Village of Montgomery\, 200 North River Street\, Montgomery\, IL\, 60538\, United States
CATEGORIES:2025-10 Results (October)
ORGANIZER;CN="Rosie Boeing":MAILTO:riverrun@eeiweb.com
GEO:41.7295362;-88.3416114
X-APPLE-STRUCTURED-LOCATION;VALUE=URI;X-ADDRESS=Village of Montgomery 200 North River Street Montgomery IL 60538 United States;X-APPLE-RADIUS=500;X-TITLE=200 North River Street:geo:-88.3416114,41.7295362
END:VEVENT
BEGIN:VEVENT
DTSTART;TZID=America/Chicago:20241005T090000
DTEND;TZID=America/Chicago:20241005T110000
DTSTAMP:20260423T224853
CREATED:20170506T102337Z
LAST-MODIFIED:20241005T180950Z
UID:10001376-1728118800-1728126000@www.racetime.info
SUMMARY:Montgomery River Run 5K & 10K
DESCRIPTION:River Run 5K Age Group Results\n\nRiver Run 5K Overall Results\n\nRiver Run 10K Age Group Results\n\nRiver Run 10K Overall Results
URL:https://www.racetime.info/event/copy-of-montgomery-river-run-5k-10k-3/
LOCATION:Village of Montgomery\, 200 North River Street\, Montgomery\, IL\, 60538\, United States
CATEGORIES:2024-10 Results (October)
ORGANIZER;CN="Rosie Boeing":MAILTO:riverrun@eeiweb.com
GEO:41.7295362;-88.3416114
X-APPLE-STRUCTURED-LOCATION;VALUE=URI;X-ADDRESS=Village of Montgomery 200 North River Street Montgomery IL 60538 United States;X-APPLE-RADIUS=500;X-TITLE=200 North River Street:geo:-88.3416114,41.7295362
END:VEVENT
BEGIN:VEVENT
DTSTART;TZID=America/Chicago:20231007T090000
DTEND;TZID=America/Chicago:20231007T110000
DTSTAMP:20260423T224853
CREATED:20170506T102337Z
LAST-MODIFIED:20231008T231455Z
UID:10001375-1696669200-1696676400@www.racetime.info
SUMMARY:Montgomery River Run 5K & 10K
DESCRIPTION:Montgomery River Run 5K Age Group Results\n\nMontgomery River Run 5K Overall Results\n\nMontgomery River Run 10K Age Group Results\n\nMontgomery River Run 10K Overall Results
URL:https://www.racetime.info/event/copy-of-montgomery-river-run-5k-10k-2/
LOCATION:Village of Montgomery\, 200 North River Street\, Montgomery\, IL\, 60538\, United States
CATEGORIES:2023-10 Results (October)
ORGANIZER;CN="Rosie Boeing":MAILTO:riverrun@eeiweb.com
GEO:41.7295362;-88.3416114
X-APPLE-STRUCTURED-LOCATION;VALUE=URI;X-ADDRESS=Village of Montgomery 200 North River Street Montgomery IL 60538 United States;X-APPLE-RADIUS=500;X-TITLE=200 North River Street:geo:-88.3416114,41.7295362
END:VEVENT
BEGIN:VEVENT
DTSTART;TZID=America/Chicago:20221001T090000
DTEND;TZID=America/Chicago:20221001T103000
DTSTAMP:20260423T224853
CREATED:20170506T102337Z
LAST-MODIFIED:20221001T184450Z
UID:10001373-1664614800-1664620200@www.racetime.info
SUMMARY:Montgomery River Run 5K & 10K
DESCRIPTION:Montgomery River Run 5K Age Group Results\n\nMontgomery River Run 5K Overall Results\n\nMontgomery River Run 10K Age Group Results\n\nMontgomery River Run 10K Overall Results
URL:https://www.racetime.info/event/copy-of-montgomery-river-run-5k-10k/
LOCATION:Village of Montgomery\, 200 North River Street\, Montgomery\, IL\, 60538\, United States
CATEGORIES:2022-10 Results (October)
ORGANIZER;CN="Rosie Boeing":MAILTO:riverrun@eeiweb.com
GEO:41.7295362;-88.3416114
X-APPLE-STRUCTURED-LOCATION;VALUE=URI;X-ADDRESS=Village of Montgomery 200 North River Street Montgomery IL 60538 United States;X-APPLE-RADIUS=500;X-TITLE=200 North River Street:geo:-88.3416114,41.7295362
END:VEVENT
BEGIN:VEVENT
DTSTART;TZID=America/Chicago:20211002T090000
DTEND;TZID=America/Chicago:20211002T110000
DTSTAMP:20260423T224853
CREATED:20170506T102337Z
LAST-MODIFIED:20211002T222947Z
UID:10001371-1633165200-1633172400@www.racetime.info
SUMMARY:Montgomery River Run 5K & 10K
DESCRIPTION:River Run 5K Age Group Results\n\nRiver Run 5K Overall Results\n\nRiver Run 10K Age Group Results\n\nRiver Run 10K Overall Results
URL:https://www.racetime.info/event/montgomery-river-run-5k-10k-6/
LOCATION:Village of Montgomery\, 200 North River Street\, Montgomery\, IL\, 60538\, United States
CATEGORIES:2021-10 Results (October)
ORGANIZER;CN="Rosie Boeing":MAILTO:riverrun@eeiweb.com
GEO:41.7295362;-88.3416114
X-APPLE-STRUCTURED-LOCATION;VALUE=URI;X-ADDRESS=Village of Montgomery 200 North River Street Montgomery IL 60538 United States;X-APPLE-RADIUS=500;X-TITLE=200 North River Street:geo:-88.3416114,41.7295362
END:VEVENT
BEGIN:VEVENT
DTSTART;TZID=America/Chicago:20201003T090000
DTEND;TZID=America/Chicago:20201003T110000
DTSTAMP:20260423T224853
CREATED:20170506T102337Z
LAST-MODIFIED:20200627T120936Z
UID:10001370-1601715600-1601722800@www.racetime.info
SUMMARY:Montgomery River Run 5K & 10K: CANCELLED
DESCRIPTION:
URL:https://www.racetime.info/event/montgomery-river-run-5k-10k-5/
LOCATION:Village of Montgomery\, 200 North River Street\, Montgomery\, IL\, 60538\, United States
ORGANIZER;CN="Rosie Boeing":MAILTO:riverrun@eeiweb.com
GEO:41.7295362;-88.3416114
X-APPLE-STRUCTURED-LOCATION;VALUE=URI;X-ADDRESS=Village of Montgomery 200 North River Street Montgomery IL 60538 United States;X-APPLE-RADIUS=500;X-TITLE=200 North River Street:geo:-88.3416114,41.7295362
END:VEVENT
BEGIN:VEVENT
DTSTART;TZID=America/Chicago:20191005T090000
DTEND;TZID=America/Chicago:20191005T110000
DTSTAMP:20260423T224853
CREATED:20170506T102337Z
LAST-MODIFIED:20191005T200122Z
UID:10000578-1570266000-1570273200@www.racetime.info
SUMMARY:Montgomery River Run 5K & 10K
DESCRIPTION:Montgomery River Run 5K Age Group Results\n\nMontgomery River Run 5K Overall Results\n\nMontgomery River Run 10K Age Group Results\n\nMontgomery River Run 10K Overall Results
URL:https://www.racetime.info/event/montgomery-river-run-5k-10k-4/
LOCATION:Village of Montgomery\, 200 North River Street\, Montgomery\, IL\, 60538\, United States
CATEGORIES:2019-10 Results (October)
ORGANIZER;CN="Rosie Boeing":MAILTO:riverrun@eeiweb.com
GEO:41.7295362;-88.3416114
X-APPLE-STRUCTURED-LOCATION;VALUE=URI;X-ADDRESS=Village of Montgomery 200 North River Street Montgomery IL 60538 United States;X-APPLE-RADIUS=500;X-TITLE=200 North River Street:geo:-88.3416114,41.7295362
END:VEVENT
BEGIN:VEVENT
DTSTART;TZID=America/Chicago:20181006T090000
DTEND;TZID=America/Chicago:20181006T110000
DTSTAMP:20260423T224853
CREATED:20170506T102337Z
LAST-MODIFIED:20181010T123257Z
UID:10000576-1538816400-1538823600@www.racetime.info
SUMMARY:Montgomery River Run 5K & 10K
DESCRIPTION:Montgomery_Overall_5K_FINAL\n\nMontgomery_Overall_10K_FINAL
URL:https://www.racetime.info/event/montgomery-river-run-5k-10k-3/
LOCATION:Village of Montgomery\, 200 North River Street\, Montgomery\, IL\, 60538\, United States
CATEGORIES:2018-10 Results (October)
ORGANIZER;CN="Rosie Boeing":MAILTO:riverrun@eeiweb.com
GEO:41.7295362;-88.3416114
X-APPLE-STRUCTURED-LOCATION;VALUE=URI;X-ADDRESS=Village of Montgomery 200 North River Street Montgomery IL 60538 United States;X-APPLE-RADIUS=500;X-TITLE=200 North River Street:geo:-88.3416114,41.7295362
END:VEVENT
BEGIN:VEVENT
DTSTART;TZID=America/Chicago:20171007T090000
DTEND;TZID=America/Chicago:20171007T110000
DTSTAMP:20260423T224853
CREATED:20170506T102337Z
LAST-MODIFIED:20171008T000123Z
UID:10000574-1507366800-1507374000@www.racetime.info
SUMMARY:Montgomery River Run 5K & 10K
DESCRIPTION:Montgomery River Run 5K Age Group Results\n\nMontgomery River Run 5K Overall Results\n\nMontgomery River Run 10K Age Group Results\n\nMontgomery River Run 10K Overall Results
URL:https://www.racetime.info/event/montgomery-river-run-5k-10k-2/
LOCATION:Village of Montgomery\, 200 North River Street\, Montgomery\, IL\, 60538\, United States
CATEGORIES:2017-10 Results (October)
ORGANIZER;CN="Rosie Boeing":MAILTO:riverrun@eeiweb.com
GEO:41.7295362;-88.3416114
X-APPLE-STRUCTURED-LOCATION;VALUE=URI;X-ADDRESS=Village of Montgomery 200 North River Street Montgomery IL 60538 United States;X-APPLE-RADIUS=500;X-TITLE=200 North River Street:geo:-88.3416114,41.7295362
END:VEVENT
BEGIN:VEVENT
DTSTART;TZID=America/Chicago:20161001T090000
DTEND;TZID=America/Chicago:20161001T110000
DTSTAMP:20260423T224853
CREATED:20160425T233024Z
LAST-MODIFIED:20161001T224355Z
UID:10000246-1475312400-1475319600@www.racetime.info
SUMMARY:Montgomery River Run 5K & 10K
DESCRIPTION:River Run 5K Results\n\nRiver Run 10K Results
URL:https://www.racetime.info/event/montgomery-river-run-5k-10k/
LOCATION:Village of Montgomery\, 200 North River Street\, Montgomery\, IL\, 60538\, United States
CATEGORIES:2016-10 Results (October)
ORGANIZER;CN="Rosie Boeing":MAILTO:riverrun@eeiweb.com
GEO:41.7295362;-88.3416114
X-APPLE-STRUCTURED-LOCATION;VALUE=URI;X-ADDRESS=Village of Montgomery 200 North River Street Montgomery IL 60538 United States;X-APPLE-RADIUS=500;X-TITLE=200 North River Street:geo:-88.3416114,41.7295362
END:VEVENT
BEGIN:VEVENT
DTSTART;TZID=America/Chicago:20151003T090000
DTEND;TZID=America/Chicago:20151003T110000
DTSTAMP:20260423T224853
CREATED:20150728T022246Z
LAST-MODIFIED:20151009T114223Z
UID:10000322-1443862800-1443870000@www.racetime.info
SUMMARY:Montgomery 5K & 10K River Run
DESCRIPTION:River Run 5K Age Group Results\n\nRiver Run 5K Overall Results\n\nRiver Run 10K Age Group Results\n\nRiver Run 10K Overall Results
URL:https://www.racetime.info/event/montgomery-5k-10k-river-run/
LOCATION:Village of Montgomery\, 200 North River Street\, Montgomery\, IL\, 60538\, United States
CATEGORIES:2015-10 Results (October)
ORGANIZER;CN="Rosie Boeing":MAILTO:riverrun@eeiweb.com
GEO:41.7295362;-88.3416114
X-APPLE-STRUCTURED-LOCATION;VALUE=URI;X-ADDRESS=Village of Montgomery 200 North River Street Montgomery IL 60538 United States;X-APPLE-RADIUS=500;X-TITLE=200 North River Street:geo:-88.3416114,41.7295362
END:VEVENT
END:VCALENDAR