BEGIN:VCALENDAR
VERSION:2.0
PRODID:-//Race Time - ECPv6.15.13//NONSGML v1.0//EN
CALSCALE:GREGORIAN
METHOD:PUBLISH
X-ORIGINAL-URL:https://www.racetime.info
X-WR-CALDESC:Events for Race Time
REFRESH-INTERVAL;VALUE=DURATION:PT1H
X-Robots-Tag:noindex
X-PUBLISHED-TTL:PT1H
BEGIN:VTIMEZONE
TZID:America/Chicago
BEGIN:DAYLIGHT
TZOFFSETFROM:-0600
TZOFFSETTO:-0500
TZNAME:CDT
DTSTART:20200308T080000
END:DAYLIGHT
BEGIN:STANDARD
TZOFFSETFROM:-0500
TZOFFSETTO:-0600
TZNAME:CST
DTSTART:20201101T070000
END:STANDARD
BEGIN:DAYLIGHT
TZOFFSETFROM:-0600
TZOFFSETTO:-0500
TZNAME:CDT
DTSTART:20210314T080000
END:DAYLIGHT
BEGIN:STANDARD
TZOFFSETFROM:-0500
TZOFFSETTO:-0600
TZNAME:CST
DTSTART:20211107T070000
END:STANDARD
BEGIN:DAYLIGHT
TZOFFSETFROM:-0600
TZOFFSETTO:-0500
TZNAME:CDT
DTSTART:20220313T080000
END:DAYLIGHT
BEGIN:STANDARD
TZOFFSETFROM:-0500
TZOFFSETTO:-0600
TZNAME:CST
DTSTART:20221106T070000
END:STANDARD
BEGIN:DAYLIGHT
TZOFFSETFROM:-0600
TZOFFSETTO:-0500
TZNAME:CDT
DTSTART:20230312T080000
END:DAYLIGHT
BEGIN:STANDARD
TZOFFSETFROM:-0500
TZOFFSETTO:-0600
TZNAME:CST
DTSTART:20231105T070000
END:STANDARD
BEGIN:DAYLIGHT
TZOFFSETFROM:-0600
TZOFFSETTO:-0500
TZNAME:CDT
DTSTART:20240310T080000
END:DAYLIGHT
BEGIN:STANDARD
TZOFFSETFROM:-0500
TZOFFSETTO:-0600
TZNAME:CST
DTSTART:20241103T070000
END:STANDARD
BEGIN:DAYLIGHT
TZOFFSETFROM:-0600
TZOFFSETTO:-0500
TZNAME:CDT
DTSTART:20250309T080000
END:DAYLIGHT
BEGIN:STANDARD
TZOFFSETFROM:-0500
TZOFFSETTO:-0600
TZNAME:CST
DTSTART:20251102T070000
END:STANDARD
BEGIN:DAYLIGHT
TZOFFSETFROM:-0600
TZOFFSETTO:-0500
TZNAME:CDT
DTSTART:20260308T080000
END:DAYLIGHT
BEGIN:STANDARD
TZOFFSETFROM:-0500
TZOFFSETTO:-0600
TZNAME:CST
DTSTART:20261101T070000
END:STANDARD
END:VTIMEZONE
BEGIN:VEVENT
DTSTART;TZID=America/Chicago:20250607T083000
DTEND;TZID=America/Chicago:20250607T100000
DTSTAMP:20260424T000534
CREATED:20250406T134548Z
LAST-MODIFIED:20250607T182806Z
UID:10002329-1749285000-1749290400@www.racetime.info
SUMMARY:Waubonsee Foundation 5K/10K Trail Run
DESCRIPTION:Waubonsee 5K Overall Results\n\nWaubonsee 10K Overall Results
URL:https://www.racetime.info/event/waubonsee-foundation-5k-10k-trail-run/
LOCATION:Waubonsee Community College\, Route 47 @ Waubonsee Drive\, Sugar Grove\, IL\, 60554\, United States
CATEGORIES:2025-06 Results (June)
ORGANIZER;CN="Stephanie Carreno":MAILTO:scarreno@waubonsee.edu
END:VEVENT
BEGIN:VEVENT
DTSTART;TZID=America/Chicago:20240601T083000
DTEND;TZID=America/Chicago:20240601T100000
DTSTAMP:20260424T000534
CREATED:20210525T183055Z
LAST-MODIFIED:20240601T202015Z
UID:10001170-1717230600-1717236000@www.racetime.info
SUMMARY:Waubonsee Foundation 5K/10K Trail Run
DESCRIPTION:Waubonsee 5K Overall Results\n\nWaubonsee 10K Overall Results
URL:https://www.racetime.info/event/copy-of-waubonsee-foundation-5k-10k-trail-run/
LOCATION:Waubonsee Community College\, Route 47 @ Waubonsee Drive\, Sugar Grove\, IL\, 60554\, United States
CATEGORIES:2024-06 Results (June)
ORGANIZER;CN="Stephanie Carreno":MAILTO:scarreno@waubonsee.edu
END:VEVENT
BEGIN:VEVENT
DTSTART;TZID=America/Chicago:20230603T090000
DTEND;TZID=America/Chicago:20230603T110000
DTSTAMP:20260424T000534
CREATED:20210525T183055Z
LAST-MODIFIED:20230603T181812Z
UID:10001169-1685782800-1685790000@www.racetime.info
SUMMARY:Waubonsee Foundation 5K/10K Trail Run
DESCRIPTION:Waubonsee 5K Overall Results\n\nWaubonsee 10K Overall Results
URL:https://www.racetime.info/event/copy-of-waubonsee-foundation-5k-trail-run-and-walk-2/
LOCATION:Waubonsee Community College\, Route 47 @ Waubonsee Drive\, Sugar Grove\, IL\, 60554\, United States
CATEGORIES:2023-06 Results (June)
ORGANIZER;CN="Stephanie Carreno":MAILTO:scarreno@waubonsee.edu
END:VEVENT
BEGIN:VEVENT
DTSTART;TZID=America/Chicago:20220604T090000
DTEND;TZID=America/Chicago:20220604T110000
DTSTAMP:20260424T000534
CREATED:20210525T183055Z
LAST-MODIFIED:20220604T190717Z
UID:10001988-1654333200-1654340400@www.racetime.info
SUMMARY:Waubonsee Foundation 5K Trail Run and Walk
DESCRIPTION:Waubonsee 5K Overall Results
URL:https://www.racetime.info/event/copy-of-waubonsee-foundation-5k-trail-run-and-walk/
LOCATION:Waubonsee Community College\, Route 47 @ Waubonsee Drive\, Sugar Grove\, IL\, 60554\, United States
CATEGORIES:2022-06 Results (June)
ORGANIZER;CN="Stephanie Carreno":MAILTO:scarreno@waubonsee.edu
END:VEVENT
BEGIN:VEVENT
DTSTART;TZID=America/Chicago:20210619T090000
DTEND;TZID=America/Chicago:20210619T110000
DTSTAMP:20260424T000534
CREATED:20210525T183055Z
LAST-MODIFIED:20210707T015417Z
UID:10001987-1624093200-1624100400@www.racetime.info
SUMMARY:Waubonsee Foundation 5K Trail Run and Walk
DESCRIPTION:Waubonsee Foundation 5K Overall Results
URL:https://www.racetime.info/event/waubonsee-5k-trail-run-and-walk/
LOCATION:Waubonsee Community College\, Route 47 @ Waubonsee Drive\, Sugar Grove\, IL\, 60554\, United States
CATEGORIES:2021-06 Results (June)
ORGANIZER;CN="Stephanie Carreno":MAILTO:scarreno@waubonsee.edu
END:VEVENT
END:VCALENDAR