BEGIN:VCALENDAR
VERSION:2.0
PRODID:-//Race Time - ECPv6.15.13//NONSGML v1.0//EN
CALSCALE:GREGORIAN
METHOD:PUBLISH
X-WR-CALNAME:Race Time
X-ORIGINAL-URL:https://www.racetime.info
X-WR-CALDESC:Events for Race Time
REFRESH-INTERVAL;VALUE=DURATION:PT1H
X-Robots-Tag:noindex
X-PUBLISHED-TTL:PT1H
BEGIN:VTIMEZONE
TZID:America/Chicago
BEGIN:DAYLIGHT
TZOFFSETFROM:-0600
TZOFFSETTO:-0500
TZNAME:CDT
DTSTART:20180311T080000
END:DAYLIGHT
BEGIN:STANDARD
TZOFFSETFROM:-0500
TZOFFSETTO:-0600
TZNAME:CST
DTSTART:20181104T070000
END:STANDARD
BEGIN:DAYLIGHT
TZOFFSETFROM:-0600
TZOFFSETTO:-0500
TZNAME:CDT
DTSTART:20190310T080000
END:DAYLIGHT
BEGIN:STANDARD
TZOFFSETFROM:-0500
TZOFFSETTO:-0600
TZNAME:CST
DTSTART:20191103T070000
END:STANDARD
BEGIN:DAYLIGHT
TZOFFSETFROM:-0600
TZOFFSETTO:-0500
TZNAME:CDT
DTSTART:20200308T080000
END:DAYLIGHT
BEGIN:STANDARD
TZOFFSETFROM:-0500
TZOFFSETTO:-0600
TZNAME:CST
DTSTART:20201101T070000
END:STANDARD
END:VTIMEZONE
BEGIN:VEVENT
DTSTART;TZID=America/Chicago:20190504T140000
DTEND;TZID=America/Chicago:20190504T153000
DTSTAMP:20260424T001304
CREATED:20190127T162223Z
LAST-MODIFIED:20190505T011945Z
UID:10001847-1556978400-1556983800@www.racetime.info
SUMMARY:Salvation Army Shuffle 5K Run/Walk & 2 Mile Walk
DESCRIPTION:Salvation Army Shuffle 2 Mile Walk\n\nSalvation Army Shuffle 5K Age Group Results\n\nSalvation Army Shuffle 5K Overall Results
URL:https://www.racetime.info/event/salvation-army-shuffle-5k-run-walk-2-mile-walk/
LOCATION:Waukesha Park\, 600 Sentry Drive\, Waukesha\, WI\, 53186\, United States
CATEGORIES:2019-05 Results (May)
ORGANIZER;CN="Meredith Johnson":MAILTO:meredith.johnson@spx.com
END:VEVENT
END:VCALENDAR