BEGIN:VCALENDAR
VERSION:2.0
PRODID:-//Race Time - ECPv6.15.13//NONSGML v1.0//EN
CALSCALE:GREGORIAN
METHOD:PUBLISH
X-ORIGINAL-URL:https://www.racetime.info
X-WR-CALDESC:Events for Race Time
REFRESH-INTERVAL;VALUE=DURATION:PT1H
X-Robots-Tag:noindex
X-PUBLISHED-TTL:PT1H
BEGIN:VTIMEZONE
TZID:America/Chicago
BEGIN:DAYLIGHT
TZOFFSETFROM:-0600
TZOFFSETTO:-0500
TZNAME:CDT
DTSTART:20140309T080000
END:DAYLIGHT
BEGIN:STANDARD
TZOFFSETFROM:-0500
TZOFFSETTO:-0600
TZNAME:CST
DTSTART:20141102T070000
END:STANDARD
BEGIN:DAYLIGHT
TZOFFSETFROM:-0600
TZOFFSETTO:-0500
TZNAME:CDT
DTSTART:20150308T080000
END:DAYLIGHT
BEGIN:STANDARD
TZOFFSETFROM:-0500
TZOFFSETTO:-0600
TZNAME:CST
DTSTART:20151101T070000
END:STANDARD
BEGIN:DAYLIGHT
TZOFFSETFROM:-0600
TZOFFSETTO:-0500
TZNAME:CDT
DTSTART:20160313T080000
END:DAYLIGHT
BEGIN:STANDARD
TZOFFSETFROM:-0500
TZOFFSETTO:-0600
TZNAME:CST
DTSTART:20161106T070000
END:STANDARD
BEGIN:DAYLIGHT
TZOFFSETFROM:-0600
TZOFFSETTO:-0500
TZNAME:CDT
DTSTART:20170312T080000
END:DAYLIGHT
BEGIN:STANDARD
TZOFFSETFROM:-0500
TZOFFSETTO:-0600
TZNAME:CST
DTSTART:20171105T070000
END:STANDARD
BEGIN:DAYLIGHT
TZOFFSETFROM:-0600
TZOFFSETTO:-0500
TZNAME:CDT
DTSTART:20180311T080000
END:DAYLIGHT
BEGIN:STANDARD
TZOFFSETFROM:-0500
TZOFFSETTO:-0600
TZNAME:CST
DTSTART:20181104T070000
END:STANDARD
END:VTIMEZONE
BEGIN:VEVENT
DTSTART;TZID=America/Chicago:20170708T073000
DTEND;TZID=America/Chicago:20170708T100000
DTSTAMP:20260424T024759
CREATED:20170216T233446Z
LAST-MODIFIED:20170708T173635Z
UID:10001045-1499499000-1499508000@www.racetime.info
SUMMARY:Michael Browning Memorial 5K Run To Remember
DESCRIPTION:Michael Browning Remembrance Run 5K Age Group Results\n\nMichael Browning Remembrance Run 5K Overall Results
URL:https://www.racetime.info/event/michael-browning-memorial-5k-run-to-remember/
LOCATION:West Chicago Park District Arc Center\, 201 W National Street\, West Chicago\, IL\, 60185\, United States
CATEGORIES:2017-07 Results (July)
ORGANIZER;CN="Robbi Peterson":MAILTO:michaelbrowningmemorialfund@gmail.com
GEO:41.8928158;-88.2068855
X-APPLE-STRUCTURED-LOCATION;VALUE=URI;X-ADDRESS=West Chicago Park District Arc Center 201 W National Street West Chicago IL 60185 United States;X-APPLE-RADIUS=500;X-TITLE=201 W National Street:geo:-88.2068855,41.8928158
END:VEVENT
BEGIN:VEVENT
DTSTART;TZID=America/Chicago:20160709T073000
DTEND;TZID=America/Chicago:20160709T090000
DTSTAMP:20260424T024759
CREATED:20160310T130430Z
LAST-MODIFIED:20160709T165012Z
UID:10000575-1468049400-1468054800@www.racetime.info
SUMMARY:Michael Browning Memorial 5K Run/Walk
DESCRIPTION:Michael Browning Memorial 5K Age Group Results\n\nMichael Browning Memorial 5K Overall Results
URL:https://www.racetime.info/event/michael-browning-memorial-5k-runwalk/
LOCATION:West Chicago Park District Arc Center\, 201 W National Street\, West Chicago\, IL\, 60185\, United States
CATEGORIES:2016-07 Results (July)
ORGANIZER;CN="Robbi Peterson":MAILTO:michaelbrowningmemorialfund@gmail.com
GEO:41.8928158;-88.2068855
X-APPLE-STRUCTURED-LOCATION;VALUE=URI;X-ADDRESS=West Chicago Park District Arc Center 201 W National Street West Chicago IL 60185 United States;X-APPLE-RADIUS=500;X-TITLE=201 W National Street:geo:-88.2068855,41.8928158
END:VEVENT
BEGIN:VEVENT
DTSTART;TZID=America/Chicago:20150419T000000
DTEND;TZID=America/Chicago:20150419T000000
DTSTAMP:20260424T024759
CREATED:20150409T034455Z
LAST-MODIFIED:20150802T044932Z
UID:10000103-1429401600-1429401600@www.racetime.info
SUMMARY:Michael Browning Memorial Run
DESCRIPTION:Michael Browning Memorial 1-Mile Run Overall Results\n\nMichael Browning Memorial 5K Age Group Results\n\nMichael Browning Memorial 5K Overall Results
URL:https://www.racetime.info/event/michael-browning-memorial-5k-2/
LOCATION:West Chicago Park District Arc Center\, 201 W National Street\, West Chicago\, IL\, 60185\, United States
CATEGORIES:2015-04 Results (April)
ORGANIZER;CN="Robbi Peterson":MAILTO:michaelbrowningmemorialfund@gmail.com
GEO:41.8928158;-88.2068855
X-APPLE-STRUCTURED-LOCATION;VALUE=URI;X-ADDRESS=West Chicago Park District Arc Center 201 W National Street West Chicago IL 60185 United States;X-APPLE-RADIUS=500;X-TITLE=201 W National Street:geo:-88.2068855,41.8928158
END:VEVENT
END:VCALENDAR