BEGIN:VCALENDAR
VERSION:2.0
PRODID:-//Race Time - ECPv6.15.13//NONSGML v1.0//EN
CALSCALE:GREGORIAN
METHOD:PUBLISH
X-WR-CALNAME:Race Time
X-ORIGINAL-URL:https://www.racetime.info
X-WR-CALDESC:Events for Race Time
REFRESH-INTERVAL;VALUE=DURATION:PT1H
X-Robots-Tag:noindex
X-PUBLISHED-TTL:PT1H
BEGIN:VTIMEZONE
TZID:America/Chicago
BEGIN:DAYLIGHT
TZOFFSETFROM:-0600
TZOFFSETTO:-0500
TZNAME:CDT
DTSTART:20160313T080000
END:DAYLIGHT
BEGIN:STANDARD
TZOFFSETFROM:-0500
TZOFFSETTO:-0600
TZNAME:CST
DTSTART:20161106T070000
END:STANDARD
BEGIN:DAYLIGHT
TZOFFSETFROM:-0600
TZOFFSETTO:-0500
TZNAME:CDT
DTSTART:20170312T080000
END:DAYLIGHT
BEGIN:STANDARD
TZOFFSETFROM:-0500
TZOFFSETTO:-0600
TZNAME:CST
DTSTART:20171105T070000
END:STANDARD
BEGIN:DAYLIGHT
TZOFFSETFROM:-0600
TZOFFSETTO:-0500
TZNAME:CDT
DTSTART:20180311T080000
END:DAYLIGHT
BEGIN:STANDARD
TZOFFSETFROM:-0500
TZOFFSETTO:-0600
TZNAME:CST
DTSTART:20181104T070000
END:STANDARD
BEGIN:DAYLIGHT
TZOFFSETFROM:-0600
TZOFFSETTO:-0500
TZNAME:CDT
DTSTART:20190310T080000
END:DAYLIGHT
BEGIN:STANDARD
TZOFFSETFROM:-0500
TZOFFSETTO:-0600
TZNAME:CST
DTSTART:20191103T070000
END:STANDARD
BEGIN:DAYLIGHT
TZOFFSETFROM:-0600
TZOFFSETTO:-0500
TZNAME:CDT
DTSTART:20200308T080000
END:DAYLIGHT
BEGIN:STANDARD
TZOFFSETFROM:-0500
TZOFFSETTO:-0600
TZNAME:CST
DTSTART:20201101T070000
END:STANDARD
BEGIN:DAYLIGHT
TZOFFSETFROM:-0600
TZOFFSETTO:-0500
TZNAME:CDT
DTSTART:20210314T080000
END:DAYLIGHT
BEGIN:STANDARD
TZOFFSETFROM:-0500
TZOFFSETTO:-0600
TZNAME:CST
DTSTART:20211107T070000
END:STANDARD
BEGIN:DAYLIGHT
TZOFFSETFROM:-0600
TZOFFSETTO:-0500
TZNAME:CDT
DTSTART:20220313T080000
END:DAYLIGHT
BEGIN:STANDARD
TZOFFSETFROM:-0500
TZOFFSETTO:-0600
TZNAME:CST
DTSTART:20221106T070000
END:STANDARD
END:VTIMEZONE
BEGIN:VEVENT
DTSTART;TZID=America/Chicago:20211204T083000
DTEND;TZID=America/Chicago:20211204T100000
DTSTAMP:20260424T012849
CREATED:20171109T014157Z
LAST-MODIFIED:20211204T183242Z
UID:10000872-1638606600-1638612000@www.racetime.info
SUMMARY:Frosty 5K Run/Walk
DESCRIPTION:Frosty 5K Age Group Results\n\nFrosty 5K Overall Results
URL:https://www.racetime.info/event/frosty-5k-run-walk-and-kids-fun-run-3/
LOCATION:West Chicago Public Library District\, 118 West Washington Street\, West Chicago\, IL\, 60185\, United States
CATEGORIES:2021-12 Results (December)
ORGANIZER;CN="Nicolette Stefan":MAILTO:nstefan@westchicago.org
GEO:41.8840145;-88.205501
X-APPLE-STRUCTURED-LOCATION;VALUE=URI;X-ADDRESS=West Chicago Public Library District 118 West Washington Street West Chicago IL 60185 United States;X-APPLE-RADIUS=500;X-TITLE=118 West Washington Street:geo:-88.205501,41.8840145
END:VEVENT
BEGIN:VEVENT
DTSTART;TZID=America/Chicago:20201204T083000
DTEND;TZID=America/Chicago:20201204T100000
DTSTAMP:20260424T012849
CREATED:20171109T014157Z
LAST-MODIFIED:20201007T130646Z
UID:10000882-1607070600-1607076000@www.racetime.info
SUMMARY:Frosty 5K Run/Walk: VIRTUAL
DESCRIPTION:
URL:https://www.racetime.info/event/frosty-5k-run-walk/
LOCATION:West Chicago Public Library District\, 118 West Washington Street\, West Chicago\, IL\, 60185\, United States
ORGANIZER;CN="Nicolette Stefan":MAILTO:nstefan@westchicago.org
GEO:41.8840145;-88.205501
X-APPLE-STRUCTURED-LOCATION;VALUE=URI;X-ADDRESS=West Chicago Public Library District 118 West Washington Street West Chicago IL 60185 United States;X-APPLE-RADIUS=500;X-TITLE=118 West Washington Street:geo:-88.205501,41.8840145
END:VEVENT
BEGIN:VEVENT
DTSTART;TZID=America/Chicago:20191207T083000
DTEND;TZID=America/Chicago:20191207T100000
DTSTAMP:20260424T012849
CREATED:20171109T014157Z
LAST-MODIFIED:20191213T122807Z
UID:10000880-1575707400-1575712800@www.racetime.info
SUMMARY:Frosty 5K Run/Walk and Kids Fun Run
DESCRIPTION:Frosty 5K Age Group Results\n\nFrosty 5K Overall Results
URL:https://www.racetime.info/event/frosty-5k-run-walk-and-kids-fun-run-2/
LOCATION:West Chicago Public Library District\, 118 West Washington Street\, West Chicago\, IL\, 60185\, United States
CATEGORIES:2019-12 Results (December)
ORGANIZER;CN="Bethany Bayci":MAILTO:bbayci@westchicago.org
GEO:41.8840145;-88.205501
X-APPLE-STRUCTURED-LOCATION;VALUE=URI;X-ADDRESS=West Chicago Public Library District 118 West Washington Street West Chicago IL 60185 United States;X-APPLE-RADIUS=500;X-TITLE=118 West Washington Street:geo:-88.205501,41.8840145
END:VEVENT
BEGIN:VEVENT
DTSTART;TZID=America/Chicago:20181201T083000
DTEND;TZID=America/Chicago:20181201T100000
DTSTAMP:20260424T012849
CREATED:20171109T014157Z
LAST-MODIFIED:20181201T204624Z
UID:10000879-1543653000-1543658400@www.racetime.info
SUMMARY:Frosty 5K Run/Walk and Kids Fun Run
DESCRIPTION:Frosty 5K Age Group Results\n\nFrosty 5K Overall Results
URL:https://www.racetime.info/event/frosty-5k-run-walk-and-kids-fun-run/
LOCATION:West Chicago Public Library District\, 118 West Washington Street\, West Chicago\, IL\, 60185\, United States
CATEGORIES:2018-12 Results (December)
ORGANIZER;CN="Bethany Bayci":MAILTO:bbayci@westchicago.org
GEO:41.8840145;-88.205501
X-APPLE-STRUCTURED-LOCATION;VALUE=URI;X-ADDRESS=West Chicago Public Library District 118 West Washington Street West Chicago IL 60185 United States;X-APPLE-RADIUS=500;X-TITLE=118 West Washington Street:geo:-88.205501,41.8840145
END:VEVENT
BEGIN:VEVENT
DTSTART;TZID=America/Chicago:20171202T083000
DTEND;TZID=America/Chicago:20171202T100000
DTSTAMP:20260424T012849
CREATED:20171109T014157Z
LAST-MODIFIED:20171202T182940Z
UID:10000878-1512203400-1512208800@www.racetime.info
SUMMARY:Frosty 5K Run/Walk and Kids Fun Run
DESCRIPTION:Frosty 5K Age Group Results\n\nFrosty 5K Overall Results
URL:https://www.racetime.info/event/frosty-5k-runwalk-and-kids-fun-run/
LOCATION:West Chicago Public Library District\, 118 West Washington Street\, West Chicago\, IL\, 60185\, United States
CATEGORIES:2017-12 Results (December)
ORGANIZER;CN="Bethany Bayci":MAILTO:bbayci@westchicago.org
GEO:41.8840145;-88.205501
X-APPLE-STRUCTURED-LOCATION;VALUE=URI;X-ADDRESS=West Chicago Public Library District 118 West Washington Street West Chicago IL 60185 United States;X-APPLE-RADIUS=500;X-TITLE=118 West Washington Street:geo:-88.205501,41.8840145
END:VEVENT
END:VCALENDAR