BEGIN:VCALENDAR
VERSION:2.0
PRODID:-//Race Time - ECPv6.15.13//NONSGML v1.0//EN
CALSCALE:GREGORIAN
METHOD:PUBLISH
X-ORIGINAL-URL:https://www.racetime.info
X-WR-CALDESC:Events for Race Time
REFRESH-INTERVAL;VALUE=DURATION:PT1H
X-Robots-Tag:noindex
X-PUBLISHED-TTL:PT1H
BEGIN:VTIMEZONE
TZID:America/Chicago
BEGIN:DAYLIGHT
TZOFFSETFROM:-0600
TZOFFSETTO:-0500
TZNAME:CDT
DTSTART:20240310T080000
END:DAYLIGHT
BEGIN:STANDARD
TZOFFSETFROM:-0500
TZOFFSETTO:-0600
TZNAME:CST
DTSTART:20241103T070000
END:STANDARD
BEGIN:DAYLIGHT
TZOFFSETFROM:-0600
TZOFFSETTO:-0500
TZNAME:CDT
DTSTART:20250309T080000
END:DAYLIGHT
BEGIN:STANDARD
TZOFFSETFROM:-0500
TZOFFSETTO:-0600
TZNAME:CST
DTSTART:20251102T070000
END:STANDARD
BEGIN:DAYLIGHT
TZOFFSETFROM:-0600
TZOFFSETTO:-0500
TZNAME:CDT
DTSTART:20260308T080000
END:DAYLIGHT
BEGIN:STANDARD
TZOFFSETFROM:-0500
TZOFFSETTO:-0600
TZNAME:CST
DTSTART:20261101T070000
END:STANDARD
END:VTIMEZONE
BEGIN:VEVENT
DTSTART;TZID=America/Chicago:20250902T170000
DTEND;TZID=America/Chicago:20250902T180000
DTSTAMP:20260423T230357
CREATED:20250731T105743Z
LAST-MODIFIED:20250903T022531Z
UID:10002393-1756832400-1756836000@www.racetime.info
SUMMARY:Addison Trail XC Meet
DESCRIPTION:Addison Trail Girls Overall Results\n\nAddison Trail Girls Team Results\n\nAddison Trail Boys Overall Results\n\nAddison Trail Boys Team Results
URL:https://www.racetime.info/event/addison-trail-xc-meet-2/
LOCATION:Wood Dale Grove Forest Preserve\, 850 North Wood Dale road\, Wood Dale\, IL\, 60191\, United States
CATEGORIES:2025 Cross Country Results
ORGANIZER;CN="Brad Donaldson":MAILTO:bdonaldson@dupage88.net
END:VEVENT
END:VCALENDAR