BEGIN:VCALENDAR
VERSION:2.0
PRODID:-//Race Time - ECPv6.15.13//NONSGML v1.0//EN
CALSCALE:GREGORIAN
METHOD:PUBLISH
X-ORIGINAL-URL:https://www.racetime.info
X-WR-CALDESC:Events for Race Time
REFRESH-INTERVAL;VALUE=DURATION:PT1H
X-Robots-Tag:noindex
X-PUBLISHED-TTL:PT1H
BEGIN:VTIMEZONE
TZID:America/Chicago
BEGIN:DAYLIGHT
TZOFFSETFROM:-0600
TZOFFSETTO:-0500
TZNAME:CDT
DTSTART:20150308T080000
END:DAYLIGHT
BEGIN:STANDARD
TZOFFSETFROM:-0500
TZOFFSETTO:-0600
TZNAME:CST
DTSTART:20151101T070000
END:STANDARD
BEGIN:DAYLIGHT
TZOFFSETFROM:-0600
TZOFFSETTO:-0500
TZNAME:CDT
DTSTART:20160313T080000
END:DAYLIGHT
BEGIN:STANDARD
TZOFFSETFROM:-0500
TZOFFSETTO:-0600
TZNAME:CST
DTSTART:20161106T070000
END:STANDARD
BEGIN:DAYLIGHT
TZOFFSETFROM:-0600
TZOFFSETTO:-0500
TZNAME:CDT
DTSTART:20170312T080000
END:DAYLIGHT
BEGIN:STANDARD
TZOFFSETFROM:-0500
TZOFFSETTO:-0600
TZNAME:CST
DTSTART:20171105T070000
END:STANDARD
END:VTIMEZONE
BEGIN:VEVENT
DTSTART;TZID=America/Chicago:20160611T080000
DTEND;TZID=America/Chicago:20160611T110000
DTSTAMP:20260424T035418
CREATED:20160322T165358Z
LAST-MODIFIED:20160611T184250Z
UID:10000218-1465632000-1465642800@www.racetime.info
SUMMARY:Eagle Run 5K/10K
DESCRIPTION:Eagle 5K Age Group Results\n\nEagle 5K Overall Results\n\nEagle 10K Age Group Results\n\nEagle 10K Overall Results
URL:https://www.racetime.info/event/eagle-run-5k10k/
LOCATION:Zearing Park\, 502 Zearing Park Drive\, Princeton\, IL\, 61356\, United States
CATEGORIES:2016-06 Results (June)
ORGANIZER;CN="Elizabeth Jones":MAILTO:liz.beth.jones7@gmail.com
GEO:41.3606109;-89.4587643
X-APPLE-STRUCTURED-LOCATION;VALUE=URI;X-ADDRESS=Zearing Park 502 Zearing Park Drive Princeton IL 61356 United States;X-APPLE-RADIUS=500;X-TITLE=502 Zearing Park Drive:geo:-89.4587643,41.3606109
END:VEVENT
END:VCALENDAR